BEGIN:VCALENDAR
VERSION:2.0
PRODID:-//kcshepherdscenter.org//NONSGML kigkonsult.se iCalcreator 2.30.10/
 /
CALSCALE:GREGORIAN
METHOD:PUBLISH
UID:8deab8d7-ad19-4111-bbb4-fd2fe47b8339
X-WR-CALDESC:
X-WR-RELCALID:9744d70baab874a0c21c17c7490b9112
X-WR-TIMEZONE:America/Chicago
BEGIN:VTIMEZONE
TZID:America/Chicago
BEGIN:STANDARD
TZNAME:CST
DTSTART:20241103T020000
TZOFFSETFROM:-0500
TZOFFSETTO:-0600
RDATE:20251102T020000
END:STANDARD
BEGIN:DAYLIGHT
TZNAME:CDT
DTSTART:20250309T020000
TZOFFSETFROM:-0600
TZOFFSETTO:-0500
RDATE:20260308T020000
END:DAYLIGHT
END:VTIMEZONE
BEGIN:VEVENT
UID:86240903-eb68-4061-a9d2-5c3e575a075c
DTSTAMP:20260423T110233Z
DESCRIPTION:
DTSTART;TZID=America/Chicago:20250311T093000
DTEND;TZID=America/Chicago:20250311T113000
LOCATION:9200 Ward Parkway\, Suite 280\, Kansas City\, MO 64114 US
SUMMARY:A Matter of Balance
END:VEVENT
END:VCALENDAR
