BEGIN:VCALENDAR
VERSION:2.0
PRODID:-//kcshepherdscenter.org//NONSGML kigkonsult.se iCalcreator 2.30.10/
 /
CALSCALE:GREGORIAN
METHOD:PUBLISH
UID:9e7d94e2-ef8b-45bb-b923-686aa28d4238
X-WR-CALDESC:
X-WR-RELCALID:38862cfed7ce26d55370ce0ec788e1e6
X-WR-TIMEZONE:America/Chicago
BEGIN:VTIMEZONE
TZID:America/Chicago
BEGIN:STANDARD
TZNAME:CST
DTSTART:20241103T020000
TZOFFSETFROM:-0500
TZOFFSETTO:-0600
RDATE:20251102T020000
END:STANDARD
BEGIN:DAYLIGHT
TZNAME:CDT
DTSTART:20250309T020000
TZOFFSETFROM:-0600
TZOFFSETTO:-0500
RDATE:20260308T020000
END:DAYLIGHT
END:VTIMEZONE
BEGIN:VEVENT
UID:ad71e62d-6e8a-428b-87c8-92c90f4fc36b
DTSTAMP:20260421T125644Z
DESCRIPTION:
DTSTART;TZID=America/Chicago:20250318T093000
DTEND;TZID=America/Chicago:20250318T113000
LOCATION:9200 Ward Parkway\, Suite 280\, Kansas City\, MO 64114 US
SUMMARY:A Matter of Balance
END:VEVENT
END:VCALENDAR
