BEGIN:VCALENDAR
VERSION:2.0
PRODID:-//kcshepherdscenter.org//NONSGML kigkonsult.se iCalcreator 2.30.10/
 /
CALSCALE:GREGORIAN
METHOD:PUBLISH
UID:ada31666-0ccf-495c-ba48-8c13e748d4ce
X-WR-CALDESC:
X-WR-RELCALID:3c0ae550efc63a7d112ee38136258ef9
X-WR-TIMEZONE:America/Chicago
BEGIN:VTIMEZONE
TZID:America/Chicago
BEGIN:STANDARD
TZNAME:CST
DTSTART:20241103T020000
TZOFFSETFROM:-0500
TZOFFSETTO:-0600
RDATE:20251102T020000
END:STANDARD
BEGIN:DAYLIGHT
TZNAME:CDT
DTSTART:20250309T020000
TZOFFSETFROM:-0600
TZOFFSETTO:-0500
RDATE:20260308T020000
END:DAYLIGHT
END:VTIMEZONE
BEGIN:VEVENT
UID:297b7525-3a94-41ef-b22a-ada05eb5d9a0
DTSTAMP:20260423T110748Z
DESCRIPTION:
DTSTART;TZID=America/Chicago:20250325T093000
DTEND;TZID=America/Chicago:20250325T113000
LOCATION:9200 Ward Parkway\, Suite 280\, Kansas City\, MO 64114 US
SUMMARY:A Matter of Balance
END:VEVENT
END:VCALENDAR
