BEGIN:VCALENDAR
VERSION:2.0
PRODID:-//kcshepherdscenter.org//NONSGML kigkonsult.se iCalcreator 2.30.10/
 /
CALSCALE:GREGORIAN
METHOD:PUBLISH
UID:fb22dd91-ff2e-4a79-b88b-1149f00a1898
X-WR-CALDESC:Registration deadline is April 30\, 2025.\n\nPlease Register H
 ere: https://form.jotform.com/230474072341145
X-WR-RELCALID:6f6eb21298d7262443dff6054fb7ed7c
X-WR-TIMEZONE:America/Chicago
BEGIN:VTIMEZONE
TZID:America/Chicago
BEGIN:STANDARD
TZNAME:CST
DTSTART:20241103T020000
TZOFFSETFROM:-0500
TZOFFSETTO:-0600
RDATE:20251102T020000
RDATE:20261101T020000
END:STANDARD
BEGIN:DAYLIGHT
TZNAME:CDT
DTSTART:20250309T020000
TZOFFSETFROM:-0600
TZOFFSETTO:-0500
RDATE:20260308T020000
END:DAYLIGHT
END:VTIMEZONE
BEGIN:VEVENT
UID:637927b3-6710-4f02-8566-9b8aeeb58b66
DTSTAMP:20260421T091636Z
DESCRIPTION:Registration deadline is April 30\, 2025.\n\nPlease Register He
 re: https://form.jotform.com/230474072341145
DTSTART;TZID=America/Chicago:20250514T050000
DTEND;TZID=America/Chicago:20250514T050001
LOCATION:9200 Ward Parkway\, Suite 200\, Kansas City\, MO 64114 US
SUMMARY:KCSC Roadtrippers- The History of Leavenworth Day Trip
END:VEVENT
END:VCALENDAR
