BEGIN:VCALENDAR
VERSION:2.0
PRODID:-//kcshepherdscenter.org//NONSGML kigkonsult.se iCalcreator 2.30.10/
 /
CALSCALE:GREGORIAN
METHOD:PUBLISH
UID:b4a4bdb6-043e-4c85-9e79-6fa316a27bcf
X-WR-CALDESC:Location: Corrigan Station Roof Top\nTime: VIP 6pm-9pm/General
  admission 7pm-9pm\nEvent Details:  We’re turning up the heat with 5 top c
 hefs competing in a Taco Competition at Corrigan Station\, and you get to 
 vote for your favorite! The event will feature hosted cocktails and mockta
 ils\, live music\, tacos\, and a rooftop party. Plus\, a chance to win som
 e exciting prizes in our raffle.
X-WR-RELCALID:9b34eec521bd01897dc0d191b78c9abe
X-WR-TIMEZONE:America/Chicago
BEGIN:VTIMEZONE
TZID:America/Chicago
BEGIN:STANDARD
TZNAME:CST
DTSTART:20241103T020000
TZOFFSETFROM:-0500
TZOFFSETTO:-0600
RDATE:20251102T020000
RDATE:20261101T020000
END:STANDARD
BEGIN:DAYLIGHT
TZNAME:CDT
DTSTART:20250309T020000
TZOFFSETFROM:-0600
TZOFFSETTO:-0500
RDATE:20260308T020000
END:DAYLIGHT
END:VTIMEZONE
BEGIN:VEVENT
UID:7b6690ad-3610-4fee-adb3-9830a836102c
DTSTAMP:20260421T105829Z
DESCRIPTION:Location: Corrigan Station Roof Top\nTime: VIP 6pm-9pm/General 
 admission 7pm-9pm\nEvent Details:  We’re turning up the heat with 5 top ch
 efs competing in a Taco Competition at Corrigan Station\, and you get to v
 ote for your favorite! The event will feature hosted cocktails and mocktai
 ls\, live music\, tacos\, and a rooftop party. Plus\, a chance to win some
  exciting prizes in our raffle.
DTSTART;TZID=America/Chicago:20250529T180000
DTEND;TZID=America/Chicago:20250529T210000
LOCATION:1828 Walnut Street\, Kansas City\, MO 64108 US
SUMMARY:Guac Your World
END:VEVENT
END:VCALENDAR
