BEGIN:VCALENDAR
VERSION:2.0
PRODID:-//kcshepherdscenter.org//NONSGML kigkonsult.se iCalcreator 2.30.10/
 /
CALSCALE:GREGORIAN
METHOD:PUBLISH
UID:9eaec1c2-dd01-4fbc-bf0f-04759891ec5d
X-WR-CALDESC:KC Shepherd's Center will be at the Neighbor Market to share h
 elpful Medicare information and answer your questions as part of our outre
 ach efforts.
X-WR-RELCALID:106ae321a88ff214d10bed3a0d5e4fc9
X-WR-TIMEZONE:America/Chicago
BEGIN:VTIMEZONE
TZID:America/Chicago
BEGIN:STANDARD
TZNAME:CST
DTSTART:20241103T020000
TZOFFSETFROM:-0500
TZOFFSETTO:-0600
RDATE:20251102T020000
RDATE:20261101T020000
END:STANDARD
BEGIN:DAYLIGHT
TZNAME:CDT
DTSTART:20250309T020000
TZOFFSETFROM:-0600
TZOFFSETTO:-0500
RDATE:20260308T020000
END:DAYLIGHT
END:VTIMEZONE
BEGIN:VEVENT
UID:315b936f-3e0a-4cc6-99db-f016f4b6e998
DTSTAMP:20260422T094911Z
DESCRIPTION:KC Shepherd's Center will be at the Neighbor Market to share he
 lpful Medicare information and answer your questions as part of our outrea
 ch efforts.
DTSTART;TZID=America/Chicago:20250718T050000
DTEND;TZID=America/Chicago:20250718T050001
LOCATION:425 East 63rd Street \, Kansas City\, MO 64110 US
SUMMARY:Neighbor Markets for Medicare Outreach
END:VEVENT
END:VCALENDAR
