BEGIN:VCALENDAR
VERSION:2.0
PRODID:-//kcshepherdscenter.org//NONSGML kigkonsult.se iCalcreator 2.30.10/
 /
CALSCALE:GREGORIAN
METHOD:PUBLISH
UID:4f683e64-840d-40f2-8ef6-1899065ba346
X-WR-CALDESC:Join KC Shepherd's Center at CenterWell’s Senior Resource Fair
 !\n\nWe’re excited to be part of this special event focused on connecting 
 older adults with valuable resources and services. Come see us and other c
 ommunity partners!\n\nRSVP by Calling 913-398-5494 and enter PIN 29092149
 \n
X-WR-RELCALID:0f1c6f1c80e06e4fd6ef45c0b84d0fcd
X-WR-TIMEZONE:America/Chicago
BEGIN:VTIMEZONE
TZID:America/Chicago
BEGIN:STANDARD
TZNAME:CST
DTSTART:20241103T020000
TZOFFSETFROM:-0500
TZOFFSETTO:-0600
RDATE:20251102T020000
RDATE:20261101T020000
END:STANDARD
BEGIN:DAYLIGHT
TZNAME:CDT
DTSTART:20250309T020000
TZOFFSETFROM:-0600
TZOFFSETTO:-0500
RDATE:20260308T020000
END:DAYLIGHT
END:VTIMEZONE
BEGIN:VEVENT
UID:ec718662-88e4-44e7-9544-5e3729d666f7
DTSTAMP:20260421T091759Z
DESCRIPTION:Join KC Shepherd's Center at CenterWell’s Senior Resource Fair!
 \n\nWe’re excited to be part of this special event focused on connecting o
 lder adults with valuable resources and services. Come see us and other co
 mmunity partners!\n\nRSVP by Calling 913-398-5494 and enter PIN 29092149\n
DTSTART;TZID=America/Chicago:20250813T110000
DTEND;TZID=America/Chicago:20250813T130000
LOCATION:16575 W. 119th St.\, Olathe\,\, KS 66061 US
SUMMARY:CenterWell Senior Resource Fair
END:VEVENT
END:VCALENDAR
