BEGIN:VCALENDAR
VERSION:2.0
PRODID:-//kcshepherdscenter.org//NONSGML kigkonsult.se iCalcreator 2.30.10/
 /
CALSCALE:GREGORIAN
METHOD:PUBLISH
UID:9fb085b9-7222-4347-9a61-56538dc3224f
X-WR-CALDESC:Join KC Shepherd's Center at CenterWell’s Senior Resource Fair
 !\n\nWe’re excited to be part of this special event focused on connecting 
 older adults with valuable resources and services. Come see us and other c
 ommunity partners!\n\nRSVP Today!\nCall 913-398-5494 and enter PIN 2909214
 9
X-WR-RELCALID:fae743edd3d064ae2a1e6f3ad885faa7
X-WR-TIMEZONE:America/Chicago
BEGIN:VTIMEZONE
TZID:America/Chicago
BEGIN:STANDARD
TZNAME:CST
DTSTART:20241103T020000
TZOFFSETFROM:-0500
TZOFFSETTO:-0600
RDATE:20251102T020000
RDATE:20261101T020000
END:STANDARD
BEGIN:DAYLIGHT
TZNAME:CDT
DTSTART:20250309T020000
TZOFFSETFROM:-0600
TZOFFSETTO:-0500
RDATE:20260308T020000
END:DAYLIGHT
END:VTIMEZONE
BEGIN:VEVENT
UID:8af5447a-0a0d-4324-b737-e4361e702fea
DTSTAMP:20260419T133107Z
DESCRIPTION:Join KC Shepherd's Center at CenterWell’s Senior Resource Fair!
 \n\nWe’re excited to be part of this special event focused on connecting o
 lder adults with valuable resources and services. Come see us and other co
 mmunity partners!\n\nRSVP Today!\nCall 913-398-5494 and enter PIN 29092149
DTSTART;TZID=America/Chicago:20250814T110000
DTEND;TZID=America/Chicago:20250814T130000
LOCATION:19401 E. 39th St. S\,  Independence\, MO 64057 US
SUMMARY:CenterWell Senior Resource Fair
END:VEVENT
END:VCALENDAR
