BEGIN:VCALENDAR
VERSION:2.0
PRODID:-//kcshepherdscenter.org//NONSGML kigkonsult.se iCalcreator 2.30.10/
 /
CALSCALE:GREGORIAN
METHOD:PUBLISH
UID:c5ced0cb-9fde-4d27-9be6-7ec934bcd92b
X-WR-CALDESC:Please RSVP by emailing sarah@kcshepherdscenter.org
X-WR-RELCALID:0a2252f73a6f005b9b16e63368ba47a3
X-WR-TIMEZONE:America/Chicago
BEGIN:VTIMEZONE
TZID:America/Chicago
BEGIN:STANDARD
TZNAME:CST
DTSTART:20241103T020000
TZOFFSETFROM:-0500
TZOFFSETTO:-0600
RDATE:20251102T020000
RDATE:20261101T020000
END:STANDARD
BEGIN:DAYLIGHT
TZNAME:CDT
DTSTART:20250309T020000
TZOFFSETFROM:-0600
TZOFFSETTO:-0500
RDATE:20260308T020000
END:DAYLIGHT
END:VTIMEZONE
BEGIN:VEVENT
UID:d6f38e57-1490-4b8e-9cc6-ec6d97e9b7a5
DTSTAMP:20260419T133100Z
DESCRIPTION:Please RSVP by emailing sarah@kcshepherdscenter.org
DTSTART;TZID=America/Chicago:20250815T130000
DTEND;TZID=America/Chicago:20250815T150000
LOCATION:Keystone United Methodist Church 406 W 74th St\, Kansas City\, MO 
 64114\, Kansas City\, MO 64114 US
SUMMARY:LGBTQ+ Older Adult Coalition Roundtable
END:VEVENT
END:VCALENDAR
