BEGIN:VCALENDAR
VERSION:2.0
PRODID:-//kcshepherdscenter.org//NONSGML kigkonsult.se iCalcreator 2.30.10/
 /
CALSCALE:GREGORIAN
METHOD:PUBLISH
UID:7d1705a0-efec-43cf-9008-e8117d2c94ea
X-WR-CALDESC:
X-WR-RELCALID:6b541071f110d3adc64151a68ee2fd5d
X-WR-TIMEZONE:America/Chicago
BEGIN:VTIMEZONE
TZID:America/Chicago
BEGIN:STANDARD
TZNAME:CST
DTSTART:20241103T020000
TZOFFSETFROM:-0500
TZOFFSETTO:-0600
RDATE:20251102T020000
RDATE:20261101T020000
END:STANDARD
BEGIN:DAYLIGHT
TZNAME:CDT
DTSTART:20250309T020000
TZOFFSETFROM:-0600
TZOFFSETTO:-0500
RDATE:20260308T020000
END:DAYLIGHT
END:VTIMEZONE
BEGIN:VEVENT
UID:d38df154-1161-474e-8df7-111ae27da092
DTSTAMP:20260419T133139Z
DESCRIPTION:
DTSTART;TZID=America/Chicago:20250822T090000
DTEND;TZID=America/Chicago:20250822T120000
LOCATION:406 West 74th Street \, Kansas City\, MO 64114 US
SUMMARY:Adventures In Learning- Summer
END:VEVENT
END:VCALENDAR
