BEGIN:VCALENDAR
VERSION:2.0
PRODID:-//kcshepherdscenter.org//NONSGML kigkonsult.se iCalcreator 2.30.10/
 /
CALSCALE:GREGORIAN
METHOD:PUBLISH
UID:5e7786d8-332f-471a-9a39-f7a43d645fb5
X-WR-CALDESC:Join us for a day full of educational sessions\, exploring ven
 dor booths\, and more.\n\nFree to all attendees. Registration not required
 .\n\n\nIncluded in the event:\n\nVendor Area - Peruse a variety of local b
 usinesses and Johnson County agencies.  Area closes at 2:30pm\nFeature Pre
 sentations - Broaden your knowledge and enrich your life with our three di
 fferent educational sessions.\n50 Plus Program Demonstrations - Whether yo
 u're interested in unleashing your creativity\, finding inner peace\, or s
 imply having a good laugh\, we've got something for everyone. Don't miss t
 his opportunity to explore new hobbies and activities.\nSnacks Bags Availa
 ble (while supplies last)  Sponsored by: Giving Home Health Care\nBingo - 
 Don't miss your chance to yell 'Bingo!' and win fantastic prizes. Sponsore
 d by: Devoted Health\nCommunity Drug Take Back - This is a fantastic oppor
 tunity to safely dispose of any unused or expired medications in an enviro
 nmentally responsible manner.\nComplementary Entry into the Johnson County
  Museum
X-WR-RELCALID:adf42f700f1ab057d2f75de1fcba3e29
X-WR-TIMEZONE:America/Chicago
BEGIN:VTIMEZONE
TZID:America/Chicago
BEGIN:STANDARD
TZNAME:CST
DTSTART:20241103T020000
TZOFFSETFROM:-0500
TZOFFSETTO:-0600
RDATE:20251102T020000
RDATE:20261101T020000
END:STANDARD
BEGIN:DAYLIGHT
TZNAME:CDT
DTSTART:20250309T020000
TZOFFSETFROM:-0600
TZOFFSETTO:-0500
RDATE:20260308T020000
END:DAYLIGHT
END:VTIMEZONE
BEGIN:VEVENT
UID:3628cc38-2db1-4755-91ea-3827da5d3994
DTSTAMP:20260419T133725Z
DESCRIPTION:Join us for a day full of educational sessions\, exploring vend
 or booths\, and more.\n\nFree to all attendees. Registration not required.
 \n\n\nIncluded in the event:\n\nVendor Area - Peruse a variety of local bu
 sinesses and Johnson County agencies.  Area closes at 2:30pm\nFeature Pres
 entations - Broaden your knowledge and enrich your life with our three dif
 ferent educational sessions.\n50 Plus Program Demonstrations - Whether you
 're interested in unleashing your creativity\, finding inner peace\, or si
 mply having a good laugh\, we've got something for everyone. Don't miss th
 is opportunity to explore new hobbies and activities.\nSnacks Bags Availab
 le (while supplies last)  Sponsored by: Giving Home Health Care\nBingo - D
 on't miss your chance to yell 'Bingo!' and win fantastic prizes. Sponsored
  by: Devoted Health\nCommunity Drug Take Back - This is a fantastic opport
 unity to safely dispose of any unused or expired medications in an environ
 mentally responsible manner.\nComplementary Entry into the Johnson County 
 Museum
DTSTART;TZID=America/Chicago:20250828T100000
DTEND;TZID=America/Chicago:20250828T150000
LOCATION:8788 Metcalf Ave\, Overland Park\, KS 66212 US
SUMMARY:Live Well Age Well
END:VEVENT
END:VCALENDAR
