BEGIN:VCALENDAR
VERSION:2.0
PRODID:-//kcshepherdscenter.org//NONSGML kigkonsult.se iCalcreator 2.30.10/
 /
CALSCALE:GREGORIAN
METHOD:PUBLISH
UID:b805692c-b928-4a76-bbd2-4bb39b1ed6a5
X-WR-CALDESC:
X-WR-RELCALID:15fa1cd298eac48bd9a41016413515ba
X-WR-TIMEZONE:America/Chicago
BEGIN:VTIMEZONE
TZID:America/Chicago
BEGIN:STANDARD
TZNAME:CST
DTSTART:20241103T020000
TZOFFSETFROM:-0500
TZOFFSETTO:-0600
RDATE:20251102T020000
RDATE:20261101T020000
END:STANDARD
BEGIN:DAYLIGHT
TZNAME:CDT
DTSTART:20250309T020000
TZOFFSETFROM:-0600
TZOFFSETTO:-0500
RDATE:20260308T020000
END:DAYLIGHT
END:VTIMEZONE
BEGIN:VEVENT
UID:711bdc1b-499a-4841-b00b-8bbe2ca41b7f
DTSTAMP:20260419T133107Z
DESCRIPTION:
DTSTART;TZID=America/Chicago:20250829T090000
DTEND;TZID=America/Chicago:20250829T120000
LOCATION:406 West 74th Street \, Kansas City\, MO 64114 US
SUMMARY:Adventures In Learning- Summer
END:VEVENT
END:VCALENDAR
