BEGIN:VCALENDAR
VERSION:2.0
PRODID:-//kcshepherdscenter.org//NONSGML kigkonsult.se iCalcreator 2.30.10/
 /
CALSCALE:GREGORIAN
METHOD:PUBLISH
UID:90e04443-c2ef-43b6-a172-747612a794ae
X-WR-CALDESC:
X-WR-RELCALID:2a8085e54d08dd23cc71226dc0b13557
X-WR-TIMEZONE:America/Chicago
BEGIN:VTIMEZONE
TZID:America/Chicago
BEGIN:STANDARD
TZNAME:CST
DTSTART:20241103T020000
TZOFFSETFROM:-0500
TZOFFSETTO:-0600
RDATE:20251102T020000
RDATE:20261101T020000
END:STANDARD
BEGIN:DAYLIGHT
TZNAME:CDT
DTSTART:20250309T020000
TZOFFSETFROM:-0600
TZOFFSETTO:-0500
RDATE:20260308T020000
END:DAYLIGHT
END:VTIMEZONE
BEGIN:VEVENT
UID:7dab868a-f8f0-4f99-a09e-532c31e695c8
DTSTAMP:20260419T133643Z
DESCRIPTION:
DTSTART;TZID=America/Chicago:20250829T110000
DTEND;TZID=America/Chicago:20250829T130000
LOCATION:Keystone United Methodist Church 406 W 74th St\, Kansas City\, MO 
 64114 US
SUMMARY:Adventures In Learning Picnic
END:VEVENT
END:VCALENDAR
