BEGIN:VCALENDAR
VERSION:2.0
PRODID:-//kcshepherdscenter.org//NONSGML kigkonsult.se iCalcreator 2.30.10/
 /
CALSCALE:GREGORIAN
METHOD:PUBLISH
UID:4d7027ca-c758-4f48-a7ab-290858863ef6
X-WR-CALDESC:
X-WR-RELCALID:b8eb836cadacb3061e0c56abcce8c7f2
X-WR-TIMEZONE:America/Chicago
BEGIN:VTIMEZONE
TZID:America/Chicago
BEGIN:STANDARD
TZNAME:CST
DTSTART:20241103T020000
TZOFFSETFROM:-0500
TZOFFSETTO:-0600
RDATE:20251102T020000
RDATE:20261101T020000
END:STANDARD
BEGIN:DAYLIGHT
TZNAME:CDT
DTSTART:20250309T020000
TZOFFSETFROM:-0600
TZOFFSETTO:-0500
RDATE:20260308T020000
END:DAYLIGHT
END:VTIMEZONE
BEGIN:VEVENT
UID:85ce3a6f-56d9-4869-8e51-167bd9800c02
DTSTAMP:20260419T150720Z
DESCRIPTION:
DTSTART;TZID=America/Chicago:20250903T093000
DTEND;TZID=America/Chicago:20250903T113000
LOCATION:9200 Ward Parkway\, Suite 200\, Kansas City\, MO 64114 US
SUMMARY:Matter Of Balance
END:VEVENT
END:VCALENDAR
