BEGIN:VCALENDAR
VERSION:2.0
PRODID:-//kcshepherdscenter.org//NONSGML kigkonsult.se iCalcreator 2.30.10/
 /
CALSCALE:GREGORIAN
METHOD:PUBLISH
UID:f2360821-f342-4702-8425-8d1b1b9e4729
X-WR-CALDESC:Present this flyer to the overland park location and Texas Roa
 dhouse will donate 10% of your total food purchase to KCSC!
X-WR-RELCALID:dd6a69240cbf66f5c9caddfc5e184322
X-WR-TIMEZONE:America/Chicago
BEGIN:VTIMEZONE
TZID:America/Chicago
BEGIN:STANDARD
TZNAME:CST
DTSTART:20241103T020000
TZOFFSETFROM:-0500
TZOFFSETTO:-0600
RDATE:20251102T020000
RDATE:20261101T020000
END:STANDARD
BEGIN:DAYLIGHT
TZNAME:CDT
DTSTART:20250309T020000
TZOFFSETFROM:-0600
TZOFFSETTO:-0500
RDATE:20260308T020000
END:DAYLIGHT
END:VTIMEZONE
BEGIN:VEVENT
UID:3cfc91df-c002-43ec-ae6a-0d6632dc0450
DTSTAMP:20260419T151005Z
DESCRIPTION:Present this flyer to the overland park location and Texas Road
 house will donate 10% of your total food purchase to KCSC!
DTSTART;TZID=America/Chicago:20250904T150000
DTEND;TZID=America/Chicago:20250904T220000
LOCATION:9761 Metcalf Ave\, Overland Park\, KS 66212 US
SUMMARY:Texas Roadhouse Fundraiser!
END:VEVENT
END:VCALENDAR
