BEGIN:VCALENDAR
VERSION:2.0
PRODID:-//kcshepherdscenter.org//NONSGML kigkonsult.se iCalcreator 2.30.10/
 /
CALSCALE:GREGORIAN
METHOD:PUBLISH
UID:ef8fa696-39b6-4b0e-9a72-ac7af8d074f1
X-WR-CALDESC:Free Event! KC Shepherd's Center will be attending all day lon
 g\, stop by and say hello!
X-WR-RELCALID:c4e252d9202d5800828938911e61b059
X-WR-TIMEZONE:America/Chicago
BEGIN:VTIMEZONE
TZID:America/Chicago
BEGIN:STANDARD
TZNAME:CST
DTSTART:20241103T020000
TZOFFSETFROM:-0500
TZOFFSETTO:-0600
RDATE:20251102T020000
RDATE:20261101T020000
END:STANDARD
BEGIN:DAYLIGHT
TZNAME:CDT
DTSTART:20250309T020000
TZOFFSETFROM:-0600
TZOFFSETTO:-0500
RDATE:20260308T020000
END:DAYLIGHT
END:VTIMEZONE
BEGIN:VEVENT
UID:6ccdcbbd-6c24-4b41-a2cf-2429c99d5b1c
DTSTAMP:20260419T150407Z
DESCRIPTION:Free Event! KC Shepherd's Center will be attending all day long
 \, stop by and say hello!
DTSTART;TZID=America/Chicago:20250906T110000
DTEND;TZID=America/Chicago:20250906T150000
LOCATION:2525 E 27th St.\, Kansas City\, MO 64109 US
SUMMARY:Caring Communities Day 2025!
END:VEVENT
END:VCALENDAR
