BEGIN:VCALENDAR
VERSION:2.0
PRODID:-//kcshepherdscenter.org//NONSGML kigkonsult.se iCalcreator 2.30.10/
 /
CALSCALE:GREGORIAN
METHOD:PUBLISH
UID:d5fb58be-7779-476f-8504-3e3362851189
X-WR-CALDESC:SHIP offers free\, virtual community education sessions throug
 hout the year. Each month brings new topics designed to support older adul
 ts and caregivers.\n\nWhether you're already on Medicare or getting ready 
 to enroll\, there's something here for you.
X-WR-RELCALID:5ab7dae08f7c1ff2dfa0a05ee3a26a29
X-WR-TIMEZONE:America/Chicago
BEGIN:VTIMEZONE
TZID:America/Chicago
BEGIN:STANDARD
TZNAME:CST
DTSTART:20241103T020000
TZOFFSETFROM:-0500
TZOFFSETTO:-0600
RDATE:20251102T020000
RDATE:20261101T020000
END:STANDARD
BEGIN:DAYLIGHT
TZNAME:CDT
DTSTART:20250309T020000
TZOFFSETFROM:-0600
TZOFFSETTO:-0500
RDATE:20260308T020000
END:DAYLIGHT
END:VTIMEZONE
BEGIN:VEVENT
UID:5bfa7c0e-3a57-4813-aed6-a0017607a83c
DTSTAMP:20260419T145912Z
DESCRIPTION:SHIP offers free\, virtual community education sessions through
 out the year. Each month brings new topics designed to support older adult
 s and caregivers.\n\nWhether you're already on Medicare or getting ready t
 o enroll\, there's something here for you.
DTSTART;TZID=America/Chicago:20250910T123000
DTEND;TZID=America/Chicago:20250910T133000
LOCATION:https://www.missouriship.org/events/education-events/
SUMMARY:Medicare Virtual Educational Event
END:VEVENT
END:VCALENDAR
