BEGIN:VCALENDAR
VERSION:2.0
PRODID:-//kcshepherdscenter.org//NONSGML kigkonsult.se iCalcreator 2.30.10/
 /
CALSCALE:GREGORIAN
METHOD:PUBLISH
UID:65a61330-1198-4da5-9cf7-6530d6a912f9
X-WR-CALDESC:6800 Zoo Dr\, Kansas City\, MO 64132
X-WR-RELCALID:0b76cc90accf3f85660a2e286d7f5edf
X-WR-TIMEZONE:America/Chicago
BEGIN:VTIMEZONE
TZID:America/Chicago
BEGIN:STANDARD
TZNAME:CST
DTSTART:20241103T020000
TZOFFSETFROM:-0500
TZOFFSETTO:-0600
RDATE:20251102T020000
RDATE:20261101T020000
END:STANDARD
BEGIN:DAYLIGHT
TZNAME:CDT
DTSTART:20250309T020000
TZOFFSETFROM:-0600
TZOFFSETTO:-0500
RDATE:20260308T020000
RDATE:20270314T020000
END:DAYLIGHT
END:VTIMEZONE
BEGIN:VEVENT
UID:772ca8f8-8fbb-4c4f-a7d4-853470a772fc
DTSTAMP:20260419T145633Z
DESCRIPTION:6800 Zoo Dr\, Kansas City\, MO 64132
DTSTART;TZID=America/Chicago:20250916T050000
DTEND;TZID=America/Chicago:20250916T050001
LOCATION:KC Zoo and Aquarium
SUMMARY:KCSC Roadtrippers- KC Zoo and Aquarium
END:VEVENT
END:VCALENDAR
