BEGIN:VCALENDAR
VERSION:2.0
PRODID:-//kcshepherdscenter.org//NONSGML kigkonsult.se iCalcreator 2.30.10/
 /
CALSCALE:GREGORIAN
METHOD:PUBLISH
UID:d21569ad-4286-4a0c-81ff-9f02ba8df98c
X-WR-CALDESC:
X-WR-RELCALID:e12523cdf96dc58d98cea8b06ad8191d
X-WR-TIMEZONE:America/Chicago
BEGIN:VTIMEZONE
TZID:America/Chicago
BEGIN:STANDARD
TZNAME:CST
DTSTART:20241103T020000
TZOFFSETFROM:-0500
TZOFFSETTO:-0600
RDATE:20251102T020000
RDATE:20261101T020000
END:STANDARD
BEGIN:DAYLIGHT
TZNAME:CDT
DTSTART:20250309T020000
TZOFFSETFROM:-0600
TZOFFSETTO:-0500
RDATE:20260308T020000
RDATE:20270314T020000
END:DAYLIGHT
END:VTIMEZONE
BEGIN:VEVENT
UID:0ffb43e8-f6ea-4a68-874d-ba73eab0c584
DTSTAMP:20260419T145444Z
DESCRIPTION:
DTSTART;TZID=America/Chicago:20250917T093000
DTEND;TZID=America/Chicago:20250917T113000
LOCATION:9200 Ward Parkway\, Suite 200\, Kansas City\, MO 64114 US
SUMMARY:Matter Of Balance
END:VEVENT
END:VCALENDAR
