BEGIN:VCALENDAR
VERSION:2.0
PRODID:-//kcshepherdscenter.org//NONSGML kigkonsult.se iCalcreator 2.30.10/
 /
CALSCALE:GREGORIAN
METHOD:PUBLISH
UID:002bd81f-05cd-4e9a-8be2-8a3550961990
X-WR-CALDESC:Scan the QR Code or visit https://ow.ly/EUSC50VNNyq to registe
 r for the Zoom!
X-WR-RELCALID:26525bba06a8512a2613e7cd705e98b3
X-WR-TIMEZONE:America/Chicago
BEGIN:VTIMEZONE
TZID:America/Chicago
BEGIN:STANDARD
TZNAME:CST
DTSTART:20241103T020000
TZOFFSETFROM:-0500
TZOFFSETTO:-0600
RDATE:20251102T020000
RDATE:20261101T020000
END:STANDARD
BEGIN:DAYLIGHT
TZNAME:CDT
DTSTART:20250309T020000
TZOFFSETFROM:-0600
TZOFFSETTO:-0500
RDATE:20260308T020000
RDATE:20270314T020000
END:DAYLIGHT
END:VTIMEZONE
BEGIN:VEVENT
UID:b46232c0-420f-4425-b93f-f91a60d96e4d
DTSTAMP:20260419T145057Z
DESCRIPTION:Scan the QR Code or visit https://ow.ly/EUSC50VNNyq to register
  for the Zoom!
DTSTART;TZID=America/Chicago:20250918T130000
DTEND;TZID=America/Chicago:20250918T150000
LOCATION:
SUMMARY:Retirement Roadmap
END:VEVENT
END:VCALENDAR
