BEGIN:VCALENDAR
VERSION:2.0
PRODID:-//kcshepherdscenter.org//NONSGML kigkonsult.se iCalcreator 2.30.10/
 /
CALSCALE:GREGORIAN
METHOD:PUBLISH
UID:c58b77c9-9efa-4cf8-88c3-56fc4787d960
X-WR-CALDESC:KC Shepherd's Center will be at the Community Health fair from
  10am-1pm. See you there!
X-WR-RELCALID:65a3412b83422229d2f19b6783b2f025
X-WR-TIMEZONE:America/Chicago
BEGIN:VTIMEZONE
TZID:America/Chicago
BEGIN:STANDARD
TZNAME:CST
DTSTART:20241103T020000
TZOFFSETFROM:-0500
TZOFFSETTO:-0600
RDATE:20251102T020000
RDATE:20261101T020000
END:STANDARD
BEGIN:DAYLIGHT
TZNAME:CDT
DTSTART:20250309T020000
TZOFFSETFROM:-0600
TZOFFSETTO:-0500
RDATE:20260308T020000
RDATE:20270314T020000
END:DAYLIGHT
END:VTIMEZONE
BEGIN:VEVENT
UID:79cddad8-f6ff-4c68-be77-1803cc1d1829
DTSTAMP:20260419T150720Z
DESCRIPTION:KC Shepherd's Center will be at the Community Health fair from 
 10am-1pm. See you there!
DTSTART;TZID=America/Chicago:20250920T100000
DTEND;TZID=America/Chicago:20250920T130000
LOCATION:5111 Harry S. Truman Dr.\, Grandview\, MO 64030 US
SUMMARY:Community Health Fair
END:VEVENT
END:VCALENDAR
