BEGIN:VCALENDAR
VERSION:2.0
PRODID:-//kcshepherdscenter.org//NONSGML kigkonsult.se iCalcreator 2.30.10/
 /
CALSCALE:GREGORIAN
METHOD:PUBLISH
UID:6571f760-4eb4-44c4-a952-1c826d2baf7c
X-WR-CALDESC:
X-WR-RELCALID:ef2df98b28aa0cdde2fb15b9f5b5e8a5
X-WR-TIMEZONE:America/Chicago
BEGIN:VTIMEZONE
TZID:America/Chicago
BEGIN:STANDARD
TZNAME:CST
DTSTART:20241103T020000
TZOFFSETFROM:-0500
TZOFFSETTO:-0600
RDATE:20251102T020000
RDATE:20261101T020000
END:STANDARD
BEGIN:DAYLIGHT
TZNAME:CDT
DTSTART:20250309T020000
TZOFFSETFROM:-0600
TZOFFSETTO:-0500
RDATE:20260308T020000
RDATE:20270314T020000
END:DAYLIGHT
END:VTIMEZONE
BEGIN:VEVENT
UID:e4f928b8-8dee-4425-acd0-1604bb2218a2
DTSTAMP:20260419T151005Z
DESCRIPTION:
DTSTART;TZID=America/Chicago:20250924T093000
DTEND;TZID=America/Chicago:20250924T113000
LOCATION:9200 Ward Parkway\, Suite 200\, Kansas City\, MO 64114 US
SUMMARY:Matter Of Balance
END:VEVENT
END:VCALENDAR
