BEGIN:VCALENDAR
VERSION:2.0
PRODID:-//kcshepherdscenter.org//NONSGML kigkonsult.se iCalcreator 2.30.10/
 /
CALSCALE:GREGORIAN
METHOD:PUBLISH
UID:a146b69b-ede9-4a52-a641-01fad3dcdbb5
X-WR-CALDESC:
X-WR-RELCALID:9caf3cc0556995a87b53a60e053919c6
X-WR-TIMEZONE:America/Chicago
BEGIN:VTIMEZONE
TZID:America/Chicago
BEGIN:STANDARD
TZNAME:CST
DTSTART:20241103T020000
TZOFFSETFROM:-0500
TZOFFSETTO:-0600
RDATE:20251102T020000
RDATE:20261101T020000
END:STANDARD
BEGIN:DAYLIGHT
TZNAME:CDT
DTSTART:20250309T020000
TZOFFSETFROM:-0600
TZOFFSETTO:-0500
RDATE:20260308T020000
RDATE:20270314T020000
END:DAYLIGHT
END:VTIMEZONE
BEGIN:VEVENT
UID:d21a4b27-fc29-4b63-ae3e-27b17c5ce7f8
DTSTAMP:20260419T150401Z
DESCRIPTION:
DTSTART;TZID=America/Chicago:20250927T050000
DTEND;TZID=America/Chicago:20250927T050001
LOCATION:9200 Ward Parkway\, Kansas City\, MO 64114 US
SUMMARY:KCSC Tailgate BBQ
END:VEVENT
END:VCALENDAR
