BEGIN:VCALENDAR
VERSION:2.0
PRODID:-//kcshepherdscenter.org//NONSGML kigkonsult.se iCalcreator 2.30.10/
 /
CALSCALE:GREGORIAN
METHOD:PUBLISH
UID:f0671a5f-2ecf-420a-9cd7-5ad9852e3d61
X-WR-CALDESC:
X-WR-RELCALID:4c7d8735f3710cc949ea514559cd65b5
X-WR-TIMEZONE:America/Chicago
BEGIN:VTIMEZONE
TZID:America/Chicago
BEGIN:STANDARD
TZNAME:CST
DTSTART:20241103T020000
TZOFFSETFROM:-0500
TZOFFSETTO:-0600
RDATE:20251102T020000
RDATE:20261101T020000
END:STANDARD
BEGIN:DAYLIGHT
TZNAME:CDT
DTSTART:20250309T020000
TZOFFSETFROM:-0600
TZOFFSETTO:-0500
RDATE:20260308T020000
RDATE:20270314T020000
END:DAYLIGHT
END:VTIMEZONE
BEGIN:VEVENT
UID:4a00c4eb-1c6c-42e9-935c-43f70008be61
DTSTAMP:20260423T105750Z
DESCRIPTION:
DTSTART;TZID=America/Chicago:20251001T093000
DTEND;TZID=America/Chicago:20251001T113000
LOCATION:9200 Ward Parkway\, Suite 200\, Kansas City\, MO 64114 US
SUMMARY:Matter Of Balance
END:VEVENT
END:VCALENDAR
