BEGIN:VCALENDAR
VERSION:2.0
PRODID:-//kcshepherdscenter.org//NONSGML kigkonsult.se iCalcreator 2.30.10/
 /
CALSCALE:GREGORIAN
METHOD:PUBLISH
UID:e81e4fcb-3202-4233-ad6e-d81ba477b250
X-WR-CALDESC:
X-WR-RELCALID:70cbf41fa2f1e8170c98f9384ddeba9a
X-WR-TIMEZONE:America/Chicago
BEGIN:VTIMEZONE
TZID:America/Chicago
BEGIN:STANDARD
TZNAME:CST
DTSTART:20241103T020000
TZOFFSETFROM:-0500
TZOFFSETTO:-0600
RDATE:20251102T020000
RDATE:20261101T020000
END:STANDARD
BEGIN:DAYLIGHT
TZNAME:CDT
DTSTART:20250309T020000
TZOFFSETFROM:-0600
TZOFFSETTO:-0500
RDATE:20260308T020000
RDATE:20270314T020000
END:DAYLIGHT
END:VTIMEZONE
BEGIN:VEVENT
UID:03d65a53-89ff-4e07-ae93-77cd9a226951
DTSTAMP:20260423T110406Z
DESCRIPTION:
DTSTART;TZID=America/Chicago:20251003T090000
DTEND;TZID=America/Chicago:20251003T130000
LOCATION:Keystone United Methodist Church \, 406 W 74th St\, Kansas City\, 
 AL 64114 US
SUMMARY:Adventures In Learning- Fall Session
END:VEVENT
END:VCALENDAR
