BEGIN:VCALENDAR
VERSION:2.0
PRODID:-//kcshepherdscenter.org//NONSGML kigkonsult.se iCalcreator 2.30.10/
 /
CALSCALE:GREGORIAN
METHOD:PUBLISH
UID:0b9afb7c-12e9-4420-bfc7-bba115a92455
X-WR-CALDESC:
X-WR-RELCALID:665be5e211ea7e06e6ccb6f0ec84557c
X-WR-TIMEZONE:America/Chicago
BEGIN:VTIMEZONE
TZID:America/Chicago
BEGIN:STANDARD
TZNAME:CST
DTSTART:20241103T020000
TZOFFSETFROM:-0500
TZOFFSETTO:-0600
RDATE:20251102T020000
RDATE:20261101T020000
END:STANDARD
BEGIN:DAYLIGHT
TZNAME:CDT
DTSTART:20250309T020000
TZOFFSETFROM:-0600
TZOFFSETTO:-0500
RDATE:20260308T020000
RDATE:20270314T020000
END:DAYLIGHT
END:VTIMEZONE
BEGIN:VEVENT
UID:c9bdfc0d-f9c1-4714-aa30-a097c76ea1c0
DTSTAMP:20260421T135332Z
DESCRIPTION:
DTSTART;TZID=America/Chicago:20251003T130000
DTEND;TZID=America/Chicago:20251003T150000
LOCATION:Macedonia Baptist Church\, 1700 Linwood Blvd
SUMMARY:Senior Fraud Prevention Forum
END:VEVENT
END:VCALENDAR
