BEGIN:VCALENDAR
VERSION:2.0
PRODID:-//kcshepherdscenter.org//NONSGML kigkonsult.se iCalcreator 2.30.10/
 /
CALSCALE:GREGORIAN
METHOD:PUBLISH
UID:b78a8819-3cad-4a0b-9542-df869c59513a
X-WR-CALDESC:Community Resource Fair
X-WR-RELCALID:dfe13f07c3266e4f08e5587915469567
X-WR-TIMEZONE:America/Chicago
BEGIN:VTIMEZONE
TZID:America/Chicago
BEGIN:STANDARD
TZNAME:CST
DTSTART:20241103T020000
TZOFFSETFROM:-0500
TZOFFSETTO:-0600
RDATE:20251102T020000
RDATE:20261101T020000
END:STANDARD
BEGIN:DAYLIGHT
TZNAME:CDT
DTSTART:20250309T020000
TZOFFSETFROM:-0600
TZOFFSETTO:-0500
RDATE:20260308T020000
RDATE:20270314T020000
END:DAYLIGHT
END:VTIMEZONE
BEGIN:VEVENT
UID:e65cb5ad-116a-45e1-bf97-73dda0a8f944
DTSTAMP:20260421T130206Z
DESCRIPTION:Community Resource Fair
DTSTART;TZID=America/Chicago:20251004T110000
DTEND;TZID=America/Chicago:20251004T150000
LOCATION:Cristo Rey High School\, located at 211 Linwood Blvd\, Kansas City
 \, MO 64111
SUMMARY:Community Fair Committee with the Junior League of Kansas City
END:VEVENT
END:VCALENDAR
