BEGIN:VCALENDAR
VERSION:2.0
PRODID:-//kcshepherdscenter.org//NONSGML kigkonsult.se iCalcreator 2.30.10/
 /
CALSCALE:GREGORIAN
METHOD:PUBLISH
UID:28229b45-f02c-4505-a73a-1f1db75bd4f7
X-WR-CALDESC:
X-WR-RELCALID:0fa945539ffa5c7ff3200e33b74102d6
X-WR-TIMEZONE:America/Chicago
BEGIN:VTIMEZONE
TZID:America/Chicago
BEGIN:STANDARD
TZNAME:CST
DTSTART:20241103T020000
TZOFFSETFROM:-0500
TZOFFSETTO:-0600
RDATE:20251102T020000
RDATE:20261101T020000
END:STANDARD
BEGIN:DAYLIGHT
TZNAME:CDT
DTSTART:20250309T020000
TZOFFSETFROM:-0600
TZOFFSETTO:-0500
RDATE:20260308T020000
RDATE:20270314T020000
END:DAYLIGHT
END:VTIMEZONE
BEGIN:VEVENT
UID:1364460d-41e9-416b-b87c-4fa019878dae
DTSTAMP:20260421T124746Z
DESCRIPTION:
DTSTART;TZID=America/Chicago:20251008T170000
DTEND;TZID=America/Chicago:20251008T190000
LOCATION:13720 Roe Ave\, Leawood\, KS 66224
SUMMARY:Empowering Independence
END:VEVENT
END:VCALENDAR
