BEGIN:VCALENDAR
VERSION:2.0
PRODID:-//kcshepherdscenter.org//NONSGML kigkonsult.se iCalcreator 2.30.10/
 /
CALSCALE:GREGORIAN
METHOD:PUBLISH
UID:d23733f1-485a-4d88-92f5-0bc927a985d1
X-WR-CALDESC:25% of event sales get donated to KCSC!! Come support and have
  a great meal. Flyer must be shown.
X-WR-RELCALID:aaad52bd57296d96cb5b7aff9ebc42b9
X-WR-TIMEZONE:America/Chicago
BEGIN:VTIMEZONE
TZID:America/Chicago
BEGIN:STANDARD
TZNAME:CST
DTSTART:20241103T020000
TZOFFSETFROM:-0500
TZOFFSETTO:-0600
RDATE:20251102T020000
RDATE:20261101T020000
END:STANDARD
BEGIN:DAYLIGHT
TZNAME:CDT
DTSTART:20250309T020000
TZOFFSETFROM:-0600
TZOFFSETTO:-0500
RDATE:20260308T020000
RDATE:20270314T020000
END:DAYLIGHT
END:VTIMEZONE
BEGIN:VEVENT
UID:8d94aa25-baa3-4c60-9dc7-3e6de1ae386c
DTSTAMP:20260421T125314Z
DESCRIPTION:25% of event sales get donated to KCSC!! Come support and have 
 a great meal. Flyer must be shown.
DTSTART;TZID=America/Chicago:20251011T160000
DTEND;TZID=America/Chicago:20251011T200000
LOCATION:10221 State line Rd\, Suite 200\, Kansas City\, MO 64114 US
SUMMARY:Chipotle Fundraiser!
END:VEVENT
END:VCALENDAR
