BEGIN:VCALENDAR
VERSION:2.0
PRODID:-//kcshepherdscenter.org//NONSGML kigkonsult.se iCalcreator 2.30.10/
 /
CALSCALE:GREGORIAN
METHOD:PUBLISH
UID:816694b6-6bab-47c7-a4e1-377fe465afe9
X-WR-CALDESC:
X-WR-RELCALID:e8467bfed7d24fa8332cccf9f6e2fbf0
X-WR-TIMEZONE:America/Chicago
BEGIN:VTIMEZONE
TZID:America/Chicago
BEGIN:STANDARD
TZNAME:CST
DTSTART:20241103T020000
TZOFFSETFROM:-0500
TZOFFSETTO:-0600
RDATE:20251102T020000
RDATE:20261101T020000
END:STANDARD
BEGIN:DAYLIGHT
TZNAME:CDT
DTSTART:20250309T020000
TZOFFSETFROM:-0600
TZOFFSETTO:-0500
RDATE:20260308T020000
RDATE:20270314T020000
END:DAYLIGHT
END:VTIMEZONE
BEGIN:VEVENT
UID:4270ec74-748c-4650-960c-7e8b76517d1a
DTSTAMP:20260423T105605Z
DESCRIPTION:
DTSTART;TZID=America/Chicago:20251017T090000
DTEND;TZID=America/Chicago:20251017T130000
LOCATION:Keystone United Methodist Church \, 406 W 74th St\, Kansas City\, 
 AL 64114 US
SUMMARY:Adventures In Learning- Fall Session
END:VEVENT
END:VCALENDAR
