BEGIN:VCALENDAR
VERSION:2.0
PRODID:-//kcshepherdscenter.org//NONSGML kigkonsult.se iCalcreator 2.30.10/
 /
CALSCALE:GREGORIAN
METHOD:PUBLISH
UID:aac29337-f6ad-408c-9005-8c5c15e6b099
X-WR-CALDESC:
X-WR-RELCALID:ceace0f0ce6117916767c1864bbcdc11
X-WR-TIMEZONE:America/Chicago
BEGIN:VTIMEZONE
TZID:America/Chicago
BEGIN:STANDARD
TZNAME:CST
DTSTART:20241103T020000
TZOFFSETFROM:-0500
TZOFFSETTO:-0600
RDATE:20251102T020000
RDATE:20261101T020000
END:STANDARD
BEGIN:DAYLIGHT
TZNAME:CDT
DTSTART:20250309T020000
TZOFFSETFROM:-0600
TZOFFSETTO:-0500
RDATE:20260308T020000
RDATE:20270314T020000
END:DAYLIGHT
END:VTIMEZONE
BEGIN:VEVENT
UID:3e2402da-ced5-43e2-a54e-2e6b5e012e24
DTSTAMP:20260423T110748Z
DESCRIPTION:
DTSTART;TZID=America/Chicago:20251022T093000
DTEND;TZID=America/Chicago:20251022T113000
LOCATION:9200 Ward Parkway\, Suite 200\, Kansas City\, MO 64114 US
SUMMARY:Matter Of Balance
END:VEVENT
END:VCALENDAR
