BEGIN:VCALENDAR
VERSION:2.0
PRODID:-//kcshepherdscenter.org//NONSGML kigkonsult.se iCalcreator 2.30.10/
 /
CALSCALE:GREGORIAN
METHOD:PUBLISH
UID:a32d9df9-e86d-46b6-8a7b-c54193a327a7
X-WR-CALDESC:
X-WR-RELCALID:dec04d9e8e6ff3c210edbab8817ce0a0
X-WR-TIMEZONE:America/Chicago
BEGIN:VTIMEZONE
TZID:America/Chicago
BEGIN:STANDARD
TZNAME:CST
DTSTART:20241103T020000
TZOFFSETFROM:-0500
TZOFFSETTO:-0600
RDATE:20251102T020000
RDATE:20261101T020000
END:STANDARD
BEGIN:DAYLIGHT
TZNAME:CDT
DTSTART:20250309T020000
TZOFFSETFROM:-0600
TZOFFSETTO:-0500
RDATE:20260308T020000
RDATE:20270314T020000
END:DAYLIGHT
END:VTIMEZONE
BEGIN:VEVENT
UID:cea3f1a7-560b-4fe3-83bf-1c27ada2d7be
DTSTAMP:20260421T124959Z
DESCRIPTION:
DTSTART;TZID=America/Chicago:20251027T093000
DTEND;TZID=America/Chicago:20251027T153000
LOCATION:9200 Ward Parkway\, Suite 200\, Kansas City\, MO 64114 US
SUMMARY:Medicare
END:VEVENT
END:VCALENDAR
