BEGIN:VCALENDAR
VERSION:2.0
PRODID:-//kcshepherdscenter.org//NONSGML kigkonsult.se iCalcreator 2.30.10/
 /
CALSCALE:GREGORIAN
METHOD:PUBLISH
UID:d7f1cb39-24c9-40a1-af0b-bd758a9a2a76
X-WR-CALDESC:Missouri SHIP counselors are available for free\,\nunbiased Me
 dicare counseling: Mon. Oct 27\, 9AM - 4PM
X-WR-RELCALID:c9c67f279a6af51035f840d4c8774daa
X-WR-TIMEZONE:America/Chicago
BEGIN:VTIMEZONE
TZID:America/Chicago
BEGIN:STANDARD
TZNAME:CST
DTSTART:20241103T020000
TZOFFSETFROM:-0500
TZOFFSETTO:-0600
RDATE:20251102T020000
RDATE:20261101T020000
END:STANDARD
BEGIN:DAYLIGHT
TZNAME:CDT
DTSTART:20250309T020000
TZOFFSETFROM:-0600
TZOFFSETTO:-0500
RDATE:20260308T020000
RDATE:20270314T020000
END:DAYLIGHT
END:VTIMEZONE
BEGIN:VEVENT
UID:dde5d371-efd1-46e4-9f3e-3546a0acd9be
DTSTAMP:20260421T125215Z
DESCRIPTION:Missouri SHIP counselors are available for free\,\nunbiased Med
 icare counseling: Mon. Oct 27\, 9AM - 4PM
DTSTART;TZID=America/Chicago:20251027T090000
DTEND;TZID=America/Chicago:20251027T160000
LOCATION:9200 Ward Parkway\, Suite 200\, Kansas City\, MO 64114 US
SUMMARY:Medicare Open Enrollment Counseling Session
END:VEVENT
END:VCALENDAR
