BEGIN:VCALENDAR
VERSION:2.0
PRODID:-//kcshepherdscenter.org//NONSGML kigkonsult.se iCalcreator 2.30.10/
 /
CALSCALE:GREGORIAN
METHOD:PUBLISH
UID:c872f1f2-1699-4135-b540-75c63472cd4a
X-WR-CALDESC:
X-WR-RELCALID:f2ddc64e92f65efb7ba78c063dd8b203
X-WR-TIMEZONE:America/Chicago
BEGIN:VTIMEZONE
TZID:America/Chicago
BEGIN:STANDARD
TZNAME:CST
DTSTART:20241103T020000
TZOFFSETFROM:-0500
TZOFFSETTO:-0600
RDATE:20251102T020000
RDATE:20261101T020000
END:STANDARD
BEGIN:DAYLIGHT
TZNAME:CDT
DTSTART:20250309T020000
TZOFFSETFROM:-0600
TZOFFSETTO:-0500
RDATE:20260308T020000
RDATE:20270314T020000
END:DAYLIGHT
END:VTIMEZONE
BEGIN:VEVENT
UID:de48c745-158a-4418-b985-31f9de7d4591
DTSTAMP:20260423T103520Z
DESCRIPTION:
DTSTART;TZID=America/Chicago:20251029T173000
DTEND;TZID=America/Chicago:20251029T193000
LOCATION:Country Club Bank 1 Ward Parkway\, Kansas City\, MO 64112 US
SUMMARY:KC Connections
END:VEVENT
END:VCALENDAR
