BEGIN:VCALENDAR
VERSION:2.0
PRODID:-//kcshepherdscenter.org//NONSGML kigkonsult.se iCalcreator 2.30.10/
 /
CALSCALE:GREGORIAN
METHOD:PUBLISH
UID:20486eda-3135-492f-b493-b21709c82dde
X-WR-CALDESC:
X-WR-RELCALID:531e5f3654622ab67e8ba054d0e48f21
X-WR-TIMEZONE:America/Chicago
BEGIN:VTIMEZONE
TZID:America/Chicago
BEGIN:STANDARD
TZNAME:CST
DTSTART:20241103T020000
TZOFFSETFROM:-0500
TZOFFSETTO:-0600
RDATE:20251102T020000
RDATE:20261101T020000
END:STANDARD
BEGIN:DAYLIGHT
TZNAME:CDT
DTSTART:20250309T020000
TZOFFSETFROM:-0600
TZOFFSETTO:-0500
RDATE:20260308T020000
RDATE:20270314T020000
END:DAYLIGHT
END:VTIMEZONE
BEGIN:VEVENT
UID:61451271-1662-4ec6-aae1-c5f0c563cb23
DTSTAMP:20260421T130032Z
DESCRIPTION:
DTSTART;TZID=America/Chicago:20251030T130000
DTEND;TZID=America/Chicago:20251030T150000
LOCATION:9200 Ward Parkway\, Kansas City\, MO 64114 US
SUMMARY:LGBTQ+ Older Adult Coalition Roundtable
END:VEVENT
END:VCALENDAR
