BEGIN:VCALENDAR
VERSION:2.0
PRODID:-//kcshepherdscenter.org//NONSGML kigkonsult.se iCalcreator 2.30.10/
 /
CALSCALE:GREGORIAN
METHOD:PUBLISH
UID:a46d2f49-2eac-4dfc-b3ec-b526c6f681a6
X-WR-CALDESC:
X-WR-RELCALID:8745af64fb768d63661abd1624e75385
X-WR-TIMEZONE:America/Chicago
BEGIN:VTIMEZONE
TZID:America/Chicago
BEGIN:STANDARD
TZNAME:CST
DTSTART:20241103T020000
TZOFFSETFROM:-0500
TZOFFSETTO:-0600
RDATE:20251102T020000
RDATE:20261101T020000
END:STANDARD
BEGIN:DAYLIGHT
TZNAME:CDT
DTSTART:20250309T020000
TZOFFSETFROM:-0600
TZOFFSETTO:-0500
RDATE:20260308T020000
RDATE:20270314T020000
END:DAYLIGHT
END:VTIMEZONE
BEGIN:VEVENT
UID:7796de39-79c4-4cdd-98f5-c75412c6747c
DTSTAMP:20260421T125036Z
DESCRIPTION:
DTSTART;TZID=America/Chicago:20251031T090000
DTEND;TZID=America/Chicago:20251031T130000
LOCATION:Keystone United Methodist Church \, 406 W 74th St\, Kansas City\, 
 AL 64114 US
SUMMARY:Adventures In Learning- Fall Session
END:VEVENT
END:VCALENDAR
