BEGIN:VCALENDAR
VERSION:2.0
PRODID:-//kcshepherdscenter.org//NONSGML kigkonsult.se iCalcreator 2.30.10/
 /
CALSCALE:GREGORIAN
METHOD:PUBLISH
UID:3740098c-c1a7-4b81-80b2-21e6dd1ac4ff
X-WR-CALDESC:
X-WR-RELCALID:2b2d0a7a9bb62fc46e3d8a24ad548180
X-WR-TIMEZONE:America/Chicago
BEGIN:VTIMEZONE
TZID:America/Chicago
BEGIN:STANDARD
TZNAME:CST
DTSTART:20251102T020000
TZOFFSETFROM:-0500
TZOFFSETTO:-0600
RDATE:20261101T020000
END:STANDARD
BEGIN:DAYLIGHT
TZNAME:CDT
DTSTART:20250309T020000
TZOFFSETFROM:-0600
TZOFFSETTO:-0500
RDATE:20260308T020000
RDATE:20270314T020000
END:DAYLIGHT
END:VTIMEZONE
BEGIN:VEVENT
UID:a6e591b2-6a7e-4034-b37c-9a332ec62d06
DTSTAMP:20260421T192522Z
DESCRIPTION:
DTSTART;TZID=America/Chicago:20251105T093000
DTEND;TZID=America/Chicago:20251105T153000
LOCATION:9200 Ward Parkway\, Suite 200\, Kansas City\, MO 64114 US
SUMMARY:Medicare
END:VEVENT
END:VCALENDAR
