BEGIN:VCALENDAR
VERSION:2.0
PRODID:-//kcshepherdscenter.org//NONSGML kigkonsult.se iCalcreator 2.30.10/
 /
CALSCALE:GREGORIAN
METHOD:PUBLISH
UID:02b30bb9-12f6-49a9-9e9c-fb3c556357fe
X-WR-CALDESC:
X-WR-RELCALID:41f7a55ee7ef9028ba864c36a085e621
X-WR-TIMEZONE:America/Chicago
BEGIN:VTIMEZONE
TZID:America/Chicago
BEGIN:STANDARD
TZNAME:CST
DTSTART:20251102T020000
TZOFFSETFROM:-0500
TZOFFSETTO:-0600
RDATE:20261101T020000
END:STANDARD
BEGIN:DAYLIGHT
TZNAME:CDT
DTSTART:20250309T020000
TZOFFSETFROM:-0600
TZOFFSETTO:-0500
RDATE:20260308T020000
RDATE:20270314T020000
END:DAYLIGHT
END:VTIMEZONE
BEGIN:VEVENT
UID:6ad53122-5f4c-40a7-a9a5-b01c69ae2ffa
DTSTAMP:20260421T193316Z
DESCRIPTION:
DTSTART;TZID=America/Chicago:20251106T093000
DTEND;TZID=America/Chicago:20251106T153000
LOCATION:9200 Ward Parkway\, Suite 200\, Kansas City\, MO 64114 US
SUMMARY:Medicare
END:VEVENT
END:VCALENDAR
