BEGIN:VCALENDAR
VERSION:2.0
PRODID:-//kcshepherdscenter.org//NONSGML kigkonsult.se iCalcreator 2.30.10/
 /
CALSCALE:GREGORIAN
METHOD:PUBLISH
UID:edf8a6bf-8998-493f-8037-f69ead4db080
X-WR-CALDESC:
X-WR-RELCALID:1755e1c56a3eb076f9de3de3034341ac
X-WR-TIMEZONE:America/Chicago
BEGIN:VTIMEZONE
TZID:America/Chicago
BEGIN:STANDARD
TZNAME:CST
DTSTART:20251102T020000
TZOFFSETFROM:-0500
TZOFFSETTO:-0600
RDATE:20261101T020000
END:STANDARD
BEGIN:DAYLIGHT
TZNAME:CDT
DTSTART:20250309T020000
TZOFFSETFROM:-0600
TZOFFSETTO:-0500
RDATE:20260308T020000
RDATE:20270314T020000
END:DAYLIGHT
END:VTIMEZONE
BEGIN:VEVENT
UID:238b2cbe-4d7b-459a-8793-b7a7923620c5
DTSTAMP:20260421T190517Z
DESCRIPTION:
DTSTART;TZID=America/Chicago:20251107T090000
DTEND;TZID=America/Chicago:20251107T130000
LOCATION:Keystone United Methodist Church \, 406 W 74th St\, Kansas City\, 
 AL 64114 US
SUMMARY:Adventures In Learning- Fall Session
END:VEVENT
END:VCALENDAR
