BEGIN:VCALENDAR
VERSION:2.0
PRODID:-//kcshepherdscenter.org//NONSGML kigkonsult.se iCalcreator 2.30.10/
 /
CALSCALE:GREGORIAN
METHOD:PUBLISH
UID:5ff18eac-f93e-4523-9aba-f34ba27bffba
X-WR-CALDESC:
X-WR-RELCALID:6e7db8ab0f0abce5b3a48290245b99cf
X-WR-TIMEZONE:America/Chicago
BEGIN:VTIMEZONE
TZID:America/Chicago
BEGIN:STANDARD
TZNAME:CST
DTSTART:20251102T020000
TZOFFSETFROM:-0500
TZOFFSETTO:-0600
RDATE:20261101T020000
END:STANDARD
BEGIN:DAYLIGHT
TZNAME:CDT
DTSTART:20250309T020000
TZOFFSETFROM:-0600
TZOFFSETTO:-0500
RDATE:20260308T020000
RDATE:20270314T020000
END:DAYLIGHT
END:VTIMEZONE
BEGIN:VEVENT
UID:906a45ed-eea8-4f22-b0f2-c93f1ef56ed6
DTSTAMP:20260421T190214Z
DESCRIPTION:
DTSTART;TZID=America/Chicago:20251108T090000
DTEND;TZID=America/Chicago:20251108T140000
LOCATION:LAMP Campus\, 1801 Linwood Blvd\, Kansas City\, MO 64109
SUMMARY:Get Help KC
END:VEVENT
END:VCALENDAR
