BEGIN:VCALENDAR
VERSION:2.0
PRODID:-//kcshepherdscenter.org//NONSGML kigkonsult.se iCalcreator 2.30.10/
 /
CALSCALE:GREGORIAN
METHOD:PUBLISH
UID:a62869dd-31a7-4500-8b6b-0813be765fd3
X-WR-CALDESC:
X-WR-RELCALID:1153a602474609b65a3f1e3fa20b7054
X-WR-TIMEZONE:America/Chicago
BEGIN:VTIMEZONE
TZID:America/Chicago
BEGIN:STANDARD
TZNAME:CST
DTSTART:20251102T020000
TZOFFSETFROM:-0500
TZOFFSETTO:-0600
RDATE:20261101T020000
END:STANDARD
BEGIN:DAYLIGHT
TZNAME:CDT
DTSTART:20250309T020000
TZOFFSETFROM:-0600
TZOFFSETTO:-0500
RDATE:20260308T020000
RDATE:20270314T020000
END:DAYLIGHT
END:VTIMEZONE
BEGIN:VEVENT
UID:0d65abb2-ad49-4822-9e3b-db625dd0dc2c
DTSTAMP:20260421T190343Z
DESCRIPTION:
DTSTART;TZID=America/Chicago:20251112T113000
DTEND;TZID=America/Chicago:20251112T143000
LOCATION:Old Town Activity Center. 9301 Pflumm Rd\, Lenexa\, KS 66215
SUMMARY:Active Agers Expo
END:VEVENT
END:VCALENDAR
