BEGIN:VCALENDAR
VERSION:2.0
PRODID:-//kcshepherdscenter.org//NONSGML kigkonsult.se iCalcreator 2.30.10/
 /
CALSCALE:GREGORIAN
METHOD:PUBLISH
UID:96faa17d-644c-4fef-b9b3-39651a4f7a8b
X-WR-CALDESC:
X-WR-RELCALID:88984c28adbbf285d85edd13c4166a4c
X-WR-TIMEZONE:America/Chicago
BEGIN:VTIMEZONE
TZID:America/Chicago
BEGIN:STANDARD
TZNAME:CST
DTSTART:20251102T020000
TZOFFSETFROM:-0500
TZOFFSETTO:-0600
RDATE:20261101T020000
END:STANDARD
BEGIN:DAYLIGHT
TZNAME:CDT
DTSTART:20250309T020000
TZOFFSETFROM:-0600
TZOFFSETTO:-0500
RDATE:20260308T020000
RDATE:20270314T020000
END:DAYLIGHT
END:VTIMEZONE
BEGIN:VEVENT
UID:12a88e1f-4506-4ab2-aa90-92145fa72653
DTSTAMP:20260421T192857Z
DESCRIPTION:
DTSTART;TZID=America/Chicago:20251112T130000
DTEND;TZID=America/Chicago:20251112T143000
LOCATION:Sunset Office Building\, 11811 S. Sunset Dr.\, Room 1070/1075\, Ol
 athe\, Kansas 66061
SUMMARY:Holiday Care for Caregivers
END:VEVENT
END:VCALENDAR
