BEGIN:VCALENDAR
VERSION:2.0
PRODID:-//kcshepherdscenter.org//NONSGML kigkonsult.se iCalcreator 2.30.10/
 /
CALSCALE:GREGORIAN
METHOD:PUBLISH
UID:308d01f3-a5cd-4274-b65c-bbab04f66a03
X-WR-CALDESC:Missouri SHIP counselors are available for free\,\nunbiased Me
 dicare counseling: Wed. Nov 12\, 9AM - 1PM
X-WR-RELCALID:c3b73f29b87c7ad961d630fb49ab2a74
X-WR-TIMEZONE:America/Chicago
BEGIN:VTIMEZONE
TZID:America/Chicago
BEGIN:STANDARD
TZNAME:CST
DTSTART:20251102T020000
TZOFFSETFROM:-0500
TZOFFSETTO:-0600
RDATE:20261101T020000
END:STANDARD
BEGIN:DAYLIGHT
TZNAME:CDT
DTSTART:20250309T020000
TZOFFSETFROM:-0600
TZOFFSETTO:-0500
RDATE:20260308T020000
RDATE:20270314T020000
END:DAYLIGHT
END:VTIMEZONE
BEGIN:VEVENT
UID:ee48525e-4d92-4f36-964e-73d19806c75e
DTSTAMP:20260421T190959Z
DESCRIPTION:Missouri SHIP counselors are available for free\,\nunbiased Med
 icare counseling: Wed. Nov 12\, 9AM - 1PM
DTSTART;TZID=America/Chicago:20251112T090000
DTEND;TZID=America/Chicago:20251112T130000
LOCATION:9200 Ward Parkway\, Suite 200\, Kansas City\, MO 64114 US
SUMMARY:Medicare Open Enrollment Counseling Session
END:VEVENT
END:VCALENDAR
