BEGIN:VCALENDAR
VERSION:2.0
PRODID:-//kcshepherdscenter.org//NONSGML kigkonsult.se iCalcreator 2.30.10/
 /
CALSCALE:GREGORIAN
METHOD:PUBLISH
UID:a907d7c9-3bf4-4949-a331-70677369b260
X-WR-CALDESC:
X-WR-RELCALID:632b89a389783d4681b11c1c70e6ec17
X-WR-TIMEZONE:America/Chicago
BEGIN:VTIMEZONE
TZID:America/Chicago
BEGIN:STANDARD
TZNAME:CST
DTSTART:20251102T020000
TZOFFSETFROM:-0500
TZOFFSETTO:-0600
RDATE:20261101T020000
END:STANDARD
BEGIN:DAYLIGHT
TZNAME:CDT
DTSTART:20250309T020000
TZOFFSETFROM:-0600
TZOFFSETTO:-0500
RDATE:20260308T020000
RDATE:20270314T020000
END:DAYLIGHT
END:VTIMEZONE
BEGIN:VEVENT
UID:13566637-141e-4d96-a6ac-9f1e95f60419
DTSTAMP:20260421T192439Z
DESCRIPTION:
DTSTART;TZID=America/Chicago:20251113T093000
DTEND;TZID=America/Chicago:20251113T153000
LOCATION:9200 Ward Parkway\, Suite 200\, Kansas City\, MO 64114 US
SUMMARY:Medicare
END:VEVENT
END:VCALENDAR
