BEGIN:VCALENDAR
VERSION:2.0
PRODID:-//kcshepherdscenter.org//NONSGML kigkonsult.se iCalcreator 2.30.10/
 /
CALSCALE:GREGORIAN
METHOD:PUBLISH
UID:42f9a2e0-a744-4027-9f4a-4e6122db5b82
X-WR-CALDESC:
X-WR-RELCALID:95733564ce2552e896425e4d00733c32
X-WR-TIMEZONE:America/Chicago
BEGIN:VTIMEZONE
TZID:America/Chicago
BEGIN:STANDARD
TZNAME:CST
DTSTART:20251102T020000
TZOFFSETFROM:-0500
TZOFFSETTO:-0600
RDATE:20261101T020000
END:STANDARD
BEGIN:DAYLIGHT
TZNAME:CDT
DTSTART:20250309T020000
TZOFFSETFROM:-0600
TZOFFSETTO:-0500
RDATE:20260308T020000
RDATE:20270314T020000
END:DAYLIGHT
END:VTIMEZONE
BEGIN:VEVENT
UID:7774aa28-ea0d-4d49-ae63-c4b5732a0140
DTSTAMP:20260421T190826Z
DESCRIPTION:
DTSTART;TZID=America/Chicago:20251114T090000
DTEND;TZID=America/Chicago:20251114T130000
LOCATION:Keystone United Methodist Church \, 406 W 74th St\, Kansas City\, 
 AL 64114 US
SUMMARY:Adventures In Learning- Fall Session
END:VEVENT
END:VCALENDAR
