BEGIN:VCALENDAR
VERSION:2.0
PRODID:-//kcshepherdscenter.org//NONSGML kigkonsult.se iCalcreator 2.30.10/
 /
CALSCALE:GREGORIAN
METHOD:PUBLISH
UID:7f80b719-3987-4685-b7f3-522b995c8fb4
X-WR-CALDESC:Come Volunteer!\nKC Shepherd’s Center’s signature community-wi
 de volunteer KC Rakes Program is 20 years old! Last year\, more than 400 v
 olunteers raked leaves and provided light yard cleanup for more than 60 ol
 der adults who are no longer physically able to care for their yards and c
 an’t always afford to hire help
X-WR-RELCALID:e72f6ee624c4dc19d8677b5bb9c67c07
X-WR-TIMEZONE:America/Chicago
BEGIN:VTIMEZONE
TZID:America/Chicago
BEGIN:STANDARD
TZNAME:CST
DTSTART:20251102T020000
TZOFFSETFROM:-0500
TZOFFSETTO:-0600
RDATE:20261101T020000
END:STANDARD
BEGIN:DAYLIGHT
TZNAME:CDT
DTSTART:20250309T020000
TZOFFSETFROM:-0600
TZOFFSETTO:-0500
RDATE:20260308T020000
RDATE:20270314T020000
END:DAYLIGHT
END:VTIMEZONE
BEGIN:VEVENT
UID:fbbe716f-ac68-41eb-88e5-93bc206bd965
DTSTAMP:20260421T191404Z
DESCRIPTION:Come Volunteer!\nKC Shepherd’s Center’s signature community-wid
 e volunteer KC Rakes Program is 20 years old! Last year\, more than 400 vo
 lunteers raked leaves and provided light yard cleanup for more than 60 old
 er adults who are no longer physically able to care for their yards and ca
 n’t always afford to hire help
DTSTART;TZID=America/Chicago:20251114T050000
DTEND;TZID=America/Chicago:20251114T050001
LOCATION:
SUMMARY:KC Rakes
END:VEVENT
END:VCALENDAR
