BEGIN:VCALENDAR
VERSION:2.0
PRODID:-//kcshepherdscenter.org//NONSGML kigkonsult.se iCalcreator 2.30.10/
 /
CALSCALE:GREGORIAN
METHOD:PUBLISH
UID:f6b10919-2e93-4348-9ee0-f16ad0040925
X-WR-CALDESC:KC Shepherd’s Center’s signature community-wide volunteer KC R
 akes Program is 20 years old! Last year\, more than 400 volunteers raked l
 eaves and provided light yard cleanup for more than 60 older adults who ar
 e no longer physically able to care for their yards and can’t always affor
 d to hire help
X-WR-RELCALID:83e2e25b6446f2d1c9fcf27cad3af42b
X-WR-TIMEZONE:America/Chicago
BEGIN:VTIMEZONE
TZID:America/Chicago
BEGIN:STANDARD
TZNAME:CST
DTSTART:20251102T020000
TZOFFSETFROM:-0500
TZOFFSETTO:-0600
RDATE:20261101T020000
END:STANDARD
BEGIN:DAYLIGHT
TZNAME:CDT
DTSTART:20250309T020000
TZOFFSETFROM:-0600
TZOFFSETTO:-0500
RDATE:20260308T020000
RDATE:20270314T020000
END:DAYLIGHT
END:VTIMEZONE
BEGIN:VEVENT
UID:b24aa427-ef2b-41da-97aa-4787011dd698
DTSTAMP:20260421T185925Z
DESCRIPTION:KC Shepherd’s Center’s signature community-wide volunteer KC Ra
 kes Program is 20 years old! Last year\, more than 400 volunteers raked le
 aves and provided light yard cleanup for more than 60 older adults who are
  no longer physically able to care for their yards and can’t always afford
  to hire help
DTSTART;TZID=America/Chicago:20251115T050000
DTEND;TZID=America/Chicago:20251115T050001
LOCATION:
SUMMARY:KC Rakes
END:VEVENT
END:VCALENDAR
