BEGIN:VCALENDAR
VERSION:2.0
PRODID:-//kcshepherdscenter.org//NONSGML kigkonsult.se iCalcreator 2.30.10/
 /
CALSCALE:GREGORIAN
METHOD:PUBLISH
UID:e3516e5f-9094-456a-b025-32c083ed534a
X-WR-CALDESC:
X-WR-RELCALID:d5c735211e5d7472e756c859499765b3
X-WR-TIMEZONE:America/Chicago
BEGIN:VTIMEZONE
TZID:America/Chicago
BEGIN:STANDARD
TZNAME:CST
DTSTART:20251102T020000
TZOFFSETFROM:-0500
TZOFFSETTO:-0600
RDATE:20261101T020000
END:STANDARD
BEGIN:DAYLIGHT
TZNAME:CDT
DTSTART:20250309T020000
TZOFFSETFROM:-0600
TZOFFSETTO:-0500
RDATE:20260308T020000
RDATE:20270314T020000
END:DAYLIGHT
END:VTIMEZONE
BEGIN:VEVENT
UID:27708207-d5e8-4018-9219-5eaf4e531ca6
DTSTAMP:20260421T190344Z
DESCRIPTION:
DTSTART;TZID=America/Chicago:20251121T090000
DTEND;TZID=America/Chicago:20251121T130000
LOCATION:
SUMMARY:Adventures In Learning- Fall Session
END:VEVENT
END:VCALENDAR
