BEGIN:VCALENDAR
VERSION:2.0
PRODID:-//kcshepherdscenter.org//NONSGML kigkonsult.se iCalcreator 2.30.10/
 /
CALSCALE:GREGORIAN
METHOD:PUBLISH
UID:9db6e8e0-8ed3-4022-8bfd-03b8822768f7
X-WR-CALDESC:
X-WR-RELCALID:47510372cedf75f2c0569e867154eb02
X-WR-TIMEZONE:America/Chicago
BEGIN:VTIMEZONE
TZID:America/Chicago
BEGIN:STANDARD
TZNAME:CST
DTSTART:20251102T020000
TZOFFSETFROM:-0500
TZOFFSETTO:-0600
RDATE:20261101T020000
END:STANDARD
BEGIN:DAYLIGHT
TZNAME:CDT
DTSTART:20250309T020000
TZOFFSETFROM:-0600
TZOFFSETTO:-0500
RDATE:20260308T020000
RDATE:20270314T020000
END:DAYLIGHT
END:VTIMEZONE
BEGIN:VEVENT
UID:309b2282-74ca-4aac-9422-9ff8b0b7b1e9
DTSTAMP:20260421T205232Z
DESCRIPTION:
DTSTART;TZID=America/Chicago:20251201T093000
DTEND;TZID=America/Chicago:20251201T153000
LOCATION:9200 Ward Parkway\, Suite 200\, Kansas City\, MO 64114 US
SUMMARY:Medicare
END:VEVENT
END:VCALENDAR
