BEGIN:VCALENDAR
VERSION:2.0
PRODID:-//kcshepherdscenter.org//NONSGML kigkonsult.se iCalcreator 2.30.10/
 /
CALSCALE:GREGORIAN
METHOD:PUBLISH
UID:900bd380-ea01-43c0-8c66-78e85d34a135
X-WR-CALDESC:Bus to Independence Square\, Vaile Mansion\, lunch  at Ophelia
 ’s\, and sleigh ride around Independence Square. \nWill require some walki
 ng
X-WR-RELCALID:6540f5efbc8e11712b91b9b3adca4828
X-WR-TIMEZONE:America/Chicago
BEGIN:VTIMEZONE
TZID:America/Chicago
BEGIN:STANDARD
TZNAME:CST
DTSTART:20251102T020000
TZOFFSETFROM:-0500
TZOFFSETTO:-0600
RDATE:20261101T020000
END:STANDARD
BEGIN:DAYLIGHT
TZNAME:CDT
DTSTART:20250309T020000
TZOFFSETFROM:-0600
TZOFFSETTO:-0500
RDATE:20260308T020000
RDATE:20270314T020000
END:DAYLIGHT
END:VTIMEZONE
BEGIN:VEVENT
UID:cd675050-5cea-46be-9dce-b085a69d26b1
DTSTAMP:20260421T205815Z
DESCRIPTION:Bus to Independence Square\, Vaile Mansion\, lunch  at Ophelia’
 s\, and sleigh ride around Independence Square. \nWill require some walkin
 g
DTSTART;TZID=America/Chicago:20251204T050000
DTEND;TZID=America/Chicago:20251204T050001
LOCATION:
SUMMARY:RoadTrippers- Christmas in Independence
END:VEVENT
END:VCALENDAR
